BEGIN:VCALENDAR
VERSION:2.0
PRODID:-//Friends of Lawnswood Cemetery - ECPv6.15.17.1//NONSGML v1.0//EN
CALSCALE:GREGORIAN
METHOD:PUBLISH
X-WR-CALNAME:Friends of Lawnswood Cemetery
X-ORIGINAL-URL:https://friendsoflawnswoodcemetery.org.uk
X-WR-CALDESC:Events for Friends of Lawnswood Cemetery
REFRESH-INTERVAL;VALUE=DURATION:PT1H
X-Robots-Tag:noindex
X-PUBLISHED-TTL:PT1H
BEGIN:VTIMEZONE
TZID:UTC
BEGIN:STANDARD
TZOFFSETFROM:+0000
TZOFFSETTO:+0000
TZNAME:UTC
DTSTART:20220101T000000
END:STANDARD
END:VTIMEZONE
BEGIN:VEVENT
DTSTART;TZID=UTC:20230910T140000
DTEND;TZID=UTC:20230910T153000
DTSTAMP:20260425T195233
CREATED:20230706T093433Z
LAST-MODIFIED:20230818T154247Z
UID:2964-1694354400-1694359800@friendsoflawnswoodcemetery.org.uk
SUMMARY:'The great and the good': Leeds personalities at Lawnswood Cemetery
DESCRIPTION:For more information & to book this walk\, use this link  The great and the good \nThis is a Leeds Civic Trust Guided walk lead by Ann Lightman \n 
URL:https://friendsoflawnswoodcemetery.org.uk/event/the-early-years-of-leeds-city-museums-heritage-open-days-2023/
LOCATION:Lawnswood Cemetery\, Lawnswood Cemetery. Otley Road (A660)\, Leeds\, LS16 6AH\, United Kingdom
CATEGORIES:Walk
END:VEVENT
END:VCALENDAR