BEGIN:VCALENDAR
VERSION:2.0
PRODID:-//Friends of Lawnswood Cemetery - ECPv6.15.17.1//NONSGML v1.0//EN
CALSCALE:GREGORIAN
METHOD:PUBLISH
X-WR-CALNAME:Friends of Lawnswood Cemetery
X-ORIGINAL-URL:https://friendsoflawnswoodcemetery.org.uk
X-WR-CALDESC:Events for Friends of Lawnswood Cemetery
REFRESH-INTERVAL;VALUE=DURATION:PT1H
X-Robots-Tag:noindex
X-PUBLISHED-TTL:PT1H
BEGIN:VTIMEZONE
TZID:Europe/London
BEGIN:DAYLIGHT
TZOFFSETFROM:+0000
TZOFFSETTO:+0100
TZNAME:BST
DTSTART:20250330T010000
END:DAYLIGHT
BEGIN:STANDARD
TZOFFSETFROM:+0100
TZOFFSETTO:+0000
TZNAME:GMT
DTSTART:20251026T010000
END:STANDARD
BEGIN:DAYLIGHT
TZOFFSETFROM:+0000
TZOFFSETTO:+0100
TZNAME:BST
DTSTART:20260329T010000
END:DAYLIGHT
BEGIN:STANDARD
TZOFFSETFROM:+0100
TZOFFSETTO:+0000
TZNAME:GMT
DTSTART:20261025T010000
END:STANDARD
BEGIN:DAYLIGHT
TZOFFSETFROM:+0000
TZOFFSETTO:+0100
TZNAME:BST
DTSTART:20270328T010000
END:DAYLIGHT
BEGIN:STANDARD
TZOFFSETFROM:+0100
TZOFFSETTO:+0000
TZNAME:GMT
DTSTART:20271031T010000
END:STANDARD
END:VTIMEZONE
BEGIN:VEVENT
DTSTART;TZID=Europe/London:20260503T140000
DTEND;TZID=Europe/London:20260503T153000
DTSTAMP:20260423T185624
CREATED:20260324T165314Z
LAST-MODIFIED:20260324T211542Z
UID:4131-1777816800-1777822200@friendsoflawnswoodcemetery.org.uk
SUMMARY:Free Guided Walk - An Introduction to Lawnswood Cemetery *Fully Booked*
DESCRIPTION:This Walk is now Fully Booked\nAn Introduction to Lawnswood Cemetery\, its buildings\, history and some of the monuments. \nMeeting Point: the car park opposite the main gates. \n(off A660\, Otley Road\, Adel LS16 6AH) \nAllow about 90 minutes. A sound system is used \nBooking – Guided Walks 2026
URL:https://friendsoflawnswoodcemetery.org.uk/event/free-guided-walk-an-introduction-to-lawnswood-cemetery/
LOCATION:Lawnswood Cemetery\, Lawnswood Cemetery. Otley Road (A660)\, Leeds\, LS16 6AH\, United Kingdom
CATEGORIES:Walk
ORGANIZER;CN="Ann Lightman":MAILTO:c.lightman@sky.com
END:VEVENT
END:VCALENDAR