BEGIN:VCALENDAR
VERSION:2.0
PRODID:-//Friends of Lawnswood Cemetery - ECPv6.15.17.1//NONSGML v1.0//EN
CALSCALE:GREGORIAN
METHOD:PUBLISH
X-WR-CALNAME:Friends of Lawnswood Cemetery
X-ORIGINAL-URL:https://friendsoflawnswoodcemetery.org.uk
X-WR-CALDESC:Events for Friends of Lawnswood Cemetery
REFRESH-INTERVAL;VALUE=DURATION:PT1H
X-Robots-Tag:noindex
X-PUBLISHED-TTL:PT1H
BEGIN:VTIMEZONE
TZID:Europe/London
BEGIN:DAYLIGHT
TZOFFSETFROM:+0000
TZOFFSETTO:+0100
TZNAME:BST
DTSTART:20230326T010000
END:DAYLIGHT
BEGIN:STANDARD
TZOFFSETFROM:+0100
TZOFFSETTO:+0000
TZNAME:GMT
DTSTART:20231029T010000
END:STANDARD
BEGIN:DAYLIGHT
TZOFFSETFROM:+0000
TZOFFSETTO:+0100
TZNAME:BST
DTSTART:20240331T010000
END:DAYLIGHT
BEGIN:STANDARD
TZOFFSETFROM:+0100
TZOFFSETTO:+0000
TZNAME:GMT
DTSTART:20241027T010000
END:STANDARD
BEGIN:DAYLIGHT
TZOFFSETFROM:+0000
TZOFFSETTO:+0100
TZNAME:BST
DTSTART:20250330T010000
END:DAYLIGHT
BEGIN:STANDARD
TZOFFSETFROM:+0100
TZOFFSETTO:+0000
TZNAME:GMT
DTSTART:20251026T010000
END:STANDARD
END:VTIMEZONE
BEGIN:VEVENT
DTSTART;TZID=Europe/London:20240714T100000
DTEND;TZID=Europe/London:20240714T113000
DTSTAMP:20260425T020614
CREATED:20240606T200332Z
LAST-MODIFIED:20240726T115229Z
UID:3363-1720951200-1720956600@friendsoflawnswoodcemetery.org.uk
SUMMARY:Commonwealth War Graves Tour Lawnswood Cemetery
DESCRIPTION:CWGC Tour 2024 – Leeds (Lawnswood) Cemetery\nTour detail & tickets are available via Eventbrite website   www.eventbrite.co.uk
URL:https://friendsoflawnswoodcemetery.org.uk/event/commonwealth-war-graves-tour-lawnswood-cemetery-2/
LOCATION:Lawnswood Cemetery\, Lawnswood Cemetery. Otley Road (A660)\, Leeds\, LS16 6AH\, United Kingdom
CATEGORIES:Walk
END:VEVENT
BEGIN:VEVENT
DTSTART;TZID=Europe/London:20240727T080000
DTEND;TZID=Europe/London:20240727T170000
DTSTAMP:20260425T020614
CREATED:20240726T114632Z
LAST-MODIFIED:20240726T115202Z
UID:3427-1722067200-1722099600@friendsoflawnswoodcemetery.org.uk
SUMMARY:Lichen Walk 27 June 2024- Cancelled
DESCRIPTION:This is just to inform anyone who was intending coming to the lichen walk with Professor Mark Seaward tomorrow 27th July that unfortunately it has had to cancelled. We apologise for any inconvenience caused
URL:https://friendsoflawnswoodcemetery.org.uk/event/lichen-walk-27-june-2024-cancelled/
LOCATION:Lawnswood Cemetery\, Lawnswood Cemetery. Otley Road (A660)\, Leeds\, LS16 6AH\, United Kingdom
CATEGORIES:Walk
END:VEVENT
END:VCALENDAR